BEGIN:VCALENDAR
VERSION:2.0
PRODID:-//Tukios.com/
BEGIN:VEVENT
UID:460a2413-4948-492f-b21c-a189ebd86100@www.jonesfunerals.com
DTSTAMP:20260423T192531Z
DTSTART:20260627T180000Z
DTEND:20260627T200000Z
SUMMARY:Celebration of Life
DESCRIPTION:
URL:https://www.jonesfunerals.com/obituaries/vernon-salter-jr
LOCATION:Nelson Hart Community Center 1340 Nelson Hart Road  Saint James 
	MO 65559
GEO:37.9920104;-91.6353366
END:VEVENT
END:VCALENDAR